BEGIN:VCALENDAR
VERSION:2.0
PRODID:icalendar-ruby
CALSCALE:GREGORIAN
METHOD:PUBLISH
BEGIN:VEVENT
DTSTAMP:20260426T021122Z
UID:7-654910@ffcog.org
DTSTART:20241103T143000Z
DTEND:20241103T153000Z
CLASS:PUBLIC
CREATED:20260425T205514
DESCRIPTION:Sunday Service
LAST-MODIFIED:20260425T205514
LOCATION:
SUMMARY:Sunday Service
URL;VALUE=URI:https://www.ffcog.org/events/sunday-service/2024-11-03
END:VEVENT
END:VCALENDAR
