BEGIN:VCALENDAR
VERSION:2.0
PRODID:icalendar-ruby
CALSCALE:GREGORIAN
METHOD:PUBLISH
BEGIN:VEVENT
DTSTAMP:20260425T224759Z
UID:7-654458@ffcog.org
DTSTART:20241020T133000Z
DTEND:20241020T143000Z
CLASS:PUBLIC
CREATED:20260425T181233
DESCRIPTION:Sunday Service
LAST-MODIFIED:20260425T181233
LOCATION:
SUMMARY:Sunday Service
URL;VALUE=URI:https://www.ffcog.org/events/sunday-service/2024-10-20
END:VEVENT
END:VCALENDAR
