BEGIN:VCALENDAR
VERSION:2.0
PRODID:icalendar-ruby
CALSCALE:GREGORIAN
METHOD:PUBLISH
BEGIN:VEVENT
DTSTAMP:20260425T210157Z
UID:7-654007@ffcog.org
DTSTART:20241013T133000Z
DTEND:20241013T143000Z
CLASS:PUBLIC
CREATED:20260425T153013
DESCRIPTION:Sunday Service
LAST-MODIFIED:20260425T153013
LOCATION:
SUMMARY:Sunday Service
URL;VALUE=URI:https://www.ffcog.org/events/sunday-service/2024-10-13
END:VEVENT
END:VCALENDAR
