BEGIN:VCALENDAR
VERSION:2.0
PRODID:icalendar-ruby
CALSCALE:GREGORIAN
METHOD:PUBLISH
BEGIN:VEVENT
DTSTAMP:20260425T192345Z
UID:7-653556@ffcog.org
DTSTART:20241006T133000Z
DTEND:20241006T143000Z
CLASS:PUBLIC
CREATED:20260425T124925
DESCRIPTION:Sunday Service
LAST-MODIFIED:20260425T124925
LOCATION:
SUMMARY:Sunday Service
URL;VALUE=URI:https://www.ffcog.org/events/sunday-service/2024-10-06
END:VEVENT
END:VCALENDAR
