BEGIN:VCALENDAR
VERSION:2.0
PRODID:icalendar-ruby
CALSCALE:GREGORIAN
METHOD:PUBLISH
BEGIN:VEVENT
DTSTAMP:20260425T115324Z
UID:7-652652@ffcog.org
DTSTART:20240908T133000Z
DTEND:20240908T143000Z
CLASS:PUBLIC
CREATED:20260425T072746
DESCRIPTION:Sunday Service
LAST-MODIFIED:20260425T072746
LOCATION:
SUMMARY:Sunday Service
URL;VALUE=URI:https://www.ffcog.org/events/sunday-service/2024-09-08
END:VEVENT
END:VCALENDAR
