BEGIN:VCALENDAR
VERSION:2.0
PRODID:icalendar-ruby
CALSCALE:GREGORIAN
METHOD:PUBLISH
BEGIN:VEVENT
DTSTAMP:20260425T032854Z
UID:7-652197@ffcog.org
DTSTART:20240804T133000Z
DTEND:20240804T143000Z
CLASS:PUBLIC
CREATED:20260424T214050
DESCRIPTION:Sunday Service
LAST-MODIFIED:20260424T214050
LOCATION:
SUMMARY:Sunday Service
URL;VALUE=URI:https://www.ffcog.org/events/sunday-service/2024-08-04
END:VEVENT
END:VCALENDAR
