BEGIN:VCALENDAR
VERSION:2.0
PRODID:icalendar-ruby
CALSCALE:GREGORIAN
METHOD:PUBLISH
BEGIN:VEVENT
DTSTAMP:20260425T014948Z
UID:7-652196@ffcog.org
DTSTART:20240728T133000Z
DTEND:20240728T143000Z
CLASS:PUBLIC
CREATED:20260424T214050
DESCRIPTION:Sunday Service
LAST-MODIFIED:20260424T214050
LOCATION:
SUMMARY:Sunday Service
URL;VALUE=URI:https://www.ffcog.org/events/sunday-service/2024-07-28
END:VEVENT
END:VCALENDAR
