BEGIN:VCALENDAR
VERSION:2.0
PRODID:icalendar-ruby
CALSCALE:GREGORIAN
METHOD:PUBLISH
BEGIN:VEVENT
DTSTAMP:20260424T235110Z
UID:7-651745@ffcog.org
DTSTART:20240721T133000Z
DTEND:20240721T143000Z
CLASS:PUBLIC
CREATED:20260424T185213
DESCRIPTION:Sunday Service
LAST-MODIFIED:20260424T185213
LOCATION:
SUMMARY:Sunday Service
URL;VALUE=URI:https://www.ffcog.org/events/sunday-service/2024-07-21
END:VEVENT
END:VCALENDAR
