BEGIN:VCALENDAR
VERSION:2.0
PRODID:icalendar-ruby
CALSCALE:GREGORIAN
METHOD:PUBLISH
BEGIN:VEVENT
DTSTAMP:20260424T183920Z
UID:7-650842@ffcog.org
DTSTART:20240630T133000Z
DTEND:20240630T143000Z
CLASS:PUBLIC
CREATED:20260424T131737
DESCRIPTION:Sunday Service
LAST-MODIFIED:20260424T131737
LOCATION:
SUMMARY:Sunday Service
URL;VALUE=URI:https://www.ffcog.org/events/sunday-service/2024-06-30
END:VEVENT
END:VCALENDAR
