BEGIN:VCALENDAR
VERSION:2.0
PRODID:icalendar-ruby
CALSCALE:GREGORIAN
METHOD:PUBLISH
BEGIN:VEVENT
DTSTAMP:20260424T151006Z
UID:7-650390@ffcog.org
DTSTART:20240616T133000Z
DTEND:20240616T143000Z
CLASS:PUBLIC
CREATED:20260424T102928
DESCRIPTION:Sunday Service
LAST-MODIFIED:20260424T102928
LOCATION:
SUMMARY:Sunday Service
URL;VALUE=URI:https://www.ffcog.org/events/sunday-service/2024-06-16
END:VEVENT
END:VCALENDAR
