BEGIN:VCALENDAR
VERSION:2.0
PRODID:icalendar-ruby
CALSCALE:GREGORIAN
METHOD:PUBLISH
BEGIN:VEVENT
DTSTAMP:20260424T094455Z
UID:7-649487@ffcog.org
DTSTART:20240526T133000Z
DTEND:20240526T143000Z
CLASS:PUBLIC
CREATED:20260423T220724
DESCRIPTION:Sunday Service
LAST-MODIFIED:20260423T220724
LOCATION:
SUMMARY:Sunday Service
URL;VALUE=URI:https://www.ffcog.org/events/sunday-service/2024-05-26
END:VEVENT
END:VCALENDAR
