BEGIN:VCALENDAR
VERSION:2.0
PRODID:icalendar-ruby
CALSCALE:GREGORIAN
METHOD:PUBLISH
BEGIN:VEVENT
DTSTAMP:20260424T044931Z
UID:7-649484@ffcog.org
DTSTART:20240505T133000Z
DTEND:20240505T143000Z
CLASS:PUBLIC
CREATED:20260423T220724
DESCRIPTION:Sunday Service
LAST-MODIFIED:20260423T220724
LOCATION:
SUMMARY:Sunday Service
URL;VALUE=URI:https://www.ffcog.org/events/sunday-service/2024-05-05
END:VEVENT
END:VCALENDAR
