BEGIN:VCALENDAR
VERSION:2.0
PRODID:icalendar-ruby
CALSCALE:GREGORIAN
METHOD:PUBLISH
BEGIN:VEVENT
DTSTAMP:20260424T011859Z
UID:7-649032@ffcog.org
DTSTART:20240421T133000Z
DTEND:20240421T143000Z
CLASS:PUBLIC
CREATED:20260423T191350
DESCRIPTION:Sunday Service
LAST-MODIFIED:20260423T191350
LOCATION:
SUMMARY:Sunday Service
URL;VALUE=URI:https://www.ffcog.org/events/sunday-service/2024-04-21
END:VEVENT
END:VCALENDAR
