BEGIN:VCALENDAR
VERSION:2.0
PRODID:icalendar-ruby
CALSCALE:GREGORIAN
METHOD:PUBLISH
BEGIN:VEVENT
DTSTAMP:20260423T213310Z
UID:7-648581@ffcog.org
DTSTART:20240414T133000Z
DTEND:20240414T143000Z
CLASS:PUBLIC
CREATED:20260423T162000
DESCRIPTION:Sunday Service
LAST-MODIFIED:20260423T162000
LOCATION:
SUMMARY:Sunday Service
URL;VALUE=URI:https://www.ffcog.org/events/sunday-service/2024-04-14
END:VEVENT
END:VCALENDAR
