BEGIN:VCALENDAR
VERSION:2.0
PRODID:icalendar-ruby
CALSCALE:GREGORIAN
METHOD:PUBLISH
BEGIN:VEVENT
DTSTAMP:20260423T082132Z
UID:7-646779@ffcog.org
DTSTART:20240331T133000Z
DTEND:20240331T143000Z
CLASS:PUBLIC
CREATED:20260422T220524
DESCRIPTION:Sunday Service
LAST-MODIFIED:20260422T220524
LOCATION:
SUMMARY:Sunday Service
URL;VALUE=URI:https://www.ffcog.org/events/sunday-service/2024-03-31
END:VEVENT
END:VCALENDAR
