BEGIN:VCALENDAR
VERSION:2.0
PRODID:icalendar-ruby
CALSCALE:GREGORIAN
METHOD:PUBLISH
BEGIN:VEVENT
DTSTAMP:20260422T205531Z
UID:7-645879@ffcog.org
DTSTART:20240317T133000Z
DTEND:20240317T143000Z
CLASS:PUBLIC
CREATED:20260422T161941
DESCRIPTION:Sunday Service
LAST-MODIFIED:20260422T161941
LOCATION:
SUMMARY:Sunday Service
URL;VALUE=URI:https://www.ffcog.org/events/sunday-service/2024-03-17
END:VEVENT
END:VCALENDAR
