BEGIN:VCALENDAR
VERSION:2.0
PRODID:icalendar-ruby
CALSCALE:GREGORIAN
METHOD:PUBLISH
BEGIN:VEVENT
DTSTAMP:20260422T023114Z
UID:7-644081@ffcog.org
DTSTART:20240303T143000Z
DTEND:20240303T153000Z
CLASS:PUBLIC
CREATED:20260421T203218
DESCRIPTION:Sunday Service
LAST-MODIFIED:20260421T203218
LOCATION:
SUMMARY:Sunday Service
URL;VALUE=URI:https://www.ffcog.org/events/sunday-service/2024-03-03
END:VEVENT
END:VCALENDAR
