BEGIN:VCALENDAR
VERSION:2.0
PRODID:icalendar-ruby
CALSCALE:GREGORIAN
METHOD:PUBLISH
BEGIN:VEVENT
DTSTAMP:20260421T172310Z
UID:7-642733@ffcog.org
DTSTART:20240225T143000Z
DTEND:20240225T153000Z
CLASS:PUBLIC
CREATED:20260421T123847
DESCRIPTION:Sunday Service
LAST-MODIFIED:20260421T123847
LOCATION:
SUMMARY:Sunday Service
URL;VALUE=URI:https://www.ffcog.org/events/sunday-service/2024-02-25
END:VEVENT
END:VCALENDAR
