BEGIN:VCALENDAR
VERSION:2.0
PRODID:icalendar-ruby
CALSCALE:GREGORIAN
METHOD:PUBLISH
BEGIN:VEVENT
DTSTAMP:20260421T063603Z
UID:7-641385@ffcog.org
DTSTART:20240218T143000Z
DTEND:20240218T153000Z
CLASS:PUBLIC
CREATED:20260420T201826
DESCRIPTION:Sunday Service
LAST-MODIFIED:20260420T201826
LOCATION:
SUMMARY:Sunday Service
URL;VALUE=URI:https://www.ffcog.org/events/sunday-service/2024-02-18
END:VEVENT
END:VCALENDAR
