BEGIN:VCALENDAR
VERSION:2.0
PRODID:icalendar-ruby
CALSCALE:GREGORIAN
METHOD:PUBLISH
BEGIN:VEVENT
DTSTAMP:20260420T201757Z
UID:7-640486@ffcog.org
DTSTART:20240211T143000Z
DTEND:20240211T153000Z
CLASS:PUBLIC
CREATED:20260420T150719
DESCRIPTION:Sunday Service
LAST-MODIFIED:20260420T150719
LOCATION:
SUMMARY:Sunday Service
URL;VALUE=URI:https://www.ffcog.org/events/sunday-service/2024-02-11
END:VEVENT
END:VCALENDAR
