BEGIN:VCALENDAR
VERSION:2.0
PRODID:icalendar-ruby
CALSCALE:GREGORIAN
METHOD:PUBLISH
BEGIN:VEVENT
DTSTAMP:20260420T084658Z
UID:7-638689@ffcog.org
DTSTART:20240204T143000Z
DTEND:20240204T153000Z
CLASS:PUBLIC
CREATED:20260420T022411
DESCRIPTION:Sunday Service
LAST-MODIFIED:20260420T022411
LOCATION:
SUMMARY:Sunday Service
URL;VALUE=URI:https://www.ffcog.org/events/sunday-service/2024-02-04
END:VEVENT
END:VCALENDAR
